BEGIN:VCALENDAR
VERSION:2.0
PRODID:-//Town of Namakagon - ECPv6.15.20//NONSGML v1.0//EN
CALSCALE:GREGORIAN
METHOD:PUBLISH
X-ORIGINAL-URL:https://namakagon-wi.org
X-WR-CALDESC:Events for Town of Namakagon
REFRESH-INTERVAL;VALUE=DURATION:PT1H
X-Robots-Tag:noindex
X-PUBLISHED-TTL:PT1H
BEGIN:VTIMEZONE
TZID:UTC
BEGIN:STANDARD
TZOFFSETFROM:+0000
TZOFFSETTO:+0000
TZNAME:UTC
DTSTART:20240101T000000
END:STANDARD
END:VTIMEZONE
BEGIN:VEVENT
DTSTART;TZID=UTC:20250930T163000
DTEND;TZID=UTC:20250930T193000
DTSTAMP:20260420T002358
CREATED:20250923T182601Z
LAST-MODIFIED:20250923T182601Z
UID:11170-1759249800-1759260600@namakagon-wi.org
SUMMARY:Great Divide Ambulance Service Meeting
DESCRIPTION:Sept 30 2025 Agenda GDAS
URL:https://namakagon-wi.org/event/great-divide-ambulance-service-meeting-2/
LOCATION:Cable Community Center\, 13660 County Highway M\, Cable\, WI\, 54821\, United States
END:VEVENT
END:VCALENDAR