BEGIN:VCALENDAR
VERSION:2.0
PRODID:-//Town of Namakagon - ECPv6.15.20//NONSGML v1.0//EN
CALSCALE:GREGORIAN
METHOD:PUBLISH
X-WR-CALNAME:Town of Namakagon
X-ORIGINAL-URL:https://namakagon-wi.org
X-WR-CALDESC:Events for Town of Namakagon
REFRESH-INTERVAL;VALUE=DURATION:PT1H
X-Robots-Tag:noindex
X-PUBLISHED-TTL:PT1H
BEGIN:VTIMEZONE
TZID:UTC
BEGIN:STANDARD
TZOFFSETFROM:+0000
TZOFFSETTO:+0000
TZNAME:UTC
DTSTART:20240101T000000
END:STANDARD
END:VTIMEZONE
BEGIN:VEVENT
DTSTART;TZID=UTC:20250513T190000
DTEND;TZID=UTC:20250513T210000
DTSTAMP:20260425T174741
CREATED:20250319T192049Z
LAST-MODIFIED:20250319T193733Z
UID:10578-1747162800-1747170000@namakagon-wi.org
SUMMARY:Public Hearing
DESCRIPTION:May 13 2025 Public Hearing Agenda \nA scaled map of the land that will be affected by this application is available within Resolution 2025-01 and Resolution 2025-02; https://namakagon-wi.org/town-government/town-resolutions/
URL:https://namakagon-wi.org/event/public-hearing-2/
LOCATION:Namakagon Town Hall\, Cable\, WI\, 23845 County Highway M\, Cable\, WI\, 54821\, United States
GEO:46.1970875;-91.0666077
X-APPLE-STRUCTURED-LOCATION;VALUE=URI;X-ADDRESS=Namakagon Town Hall Cable WI 23845 County Highway M Cable WI 54821 United States;X-APPLE-RADIUS=500;X-TITLE=23845 County Highway M:geo:-91.0666077,46.1970875
END:VEVENT
BEGIN:VEVENT
DTSTART;TZID=UTC:20250513T193000
DTEND;TZID=UTC:20250513T213000
DTSTAMP:20260425T174741
CREATED:20241230T193003Z
LAST-MODIFIED:20251013T150120Z
UID:10259-1747164600-1747171800@namakagon-wi.org
SUMMARY:Town Board Meeting
DESCRIPTION:October 14 2025 Agenda
URL:https://namakagon-wi.org/event/town-board-meeting-69/2025-05-13/
LOCATION:Namakagon Town Hall\, 24845 County Highway M\, Cable\, WI\, 54821\, United States
GEO:46.2015648;-91.0531232
X-APPLE-STRUCTURED-LOCATION;VALUE=URI;X-ADDRESS=Namakagon Town Hall 24845 County Highway M Cable WI 54821 United States;X-APPLE-RADIUS=500;X-TITLE=24845 County Highway M:geo:-91.0531232,46.2015648
END:VEVENT
END:VCALENDAR