BEGIN:VCALENDAR
VERSION:2.0
PRODID:-//Town of Namakagon - ECPv6.15.20//NONSGML v1.0//EN
CALSCALE:GREGORIAN
METHOD:PUBLISH
X-WR-CALNAME:Town of Namakagon
X-ORIGINAL-URL:https://namakagon-wi.org
X-WR-CALDESC:Events for Town of Namakagon
REFRESH-INTERVAL;VALUE=DURATION:PT1H
X-Robots-Tag:noindex
X-PUBLISHED-TTL:PT1H
BEGIN:VTIMEZONE
TZID:UTC
BEGIN:STANDARD
TZOFFSETFROM:+0000
TZOFFSETTO:+0000
TZNAME:UTC
DTSTART:20230101T000000
END:STANDARD
END:VTIMEZONE
BEGIN:VEVENT
DTSTART;TZID=UTC:20240805T103000
DTEND;TZID=UTC:20240805T110000
DTSTAMP:20260424T190137
CREATED:20240801T191012Z
LAST-MODIFIED:20240801T191012Z
UID:9752-1722853800-1722855600@namakagon-wi.org
SUMMARY:Notice of testing of Electronic Voting Equipment
DESCRIPTION:Notice of Public Test of Electronic Voting Equipment August 2024
URL:https://namakagon-wi.org/event/notice-of-testing-of-electronic-voting-equipment/
LOCATION:Namakagon Town Hall\, Cable\, WI\, 23845 County Highway M\, Cable\, WI\, 54821\, United States
GEO:46.1970875;-91.0666077
X-APPLE-STRUCTURED-LOCATION;VALUE=URI;X-ADDRESS=Namakagon Town Hall Cable WI 23845 County Highway M Cable WI 54821 United States;X-APPLE-RADIUS=500;X-TITLE=23845 County Highway M:geo:-91.0666077,46.1970875
END:VEVENT
BEGIN:VEVENT
DTSTART;TZID=UTC:20240805T190000
DTEND;TZID=UTC:20240805T203000
DTSTAMP:20260424T190137
CREATED:20231214T164822Z
LAST-MODIFIED:20240801T174640Z
UID:8716-1722884400-1722889800@namakagon-wi.org
SUMMARY:Plan Commission Meeting
DESCRIPTION:CANCELLED
URL:https://namakagon-wi.org/event/plan-commission-meeting-24/
LOCATION:Namakagon Town Hall\, 24845 County Highway M\, Cable\, WI\, 54821\, United States
GEO:46.2015648;-91.0531232
X-APPLE-STRUCTURED-LOCATION;VALUE=URI;X-ADDRESS=Namakagon Town Hall 24845 County Highway M Cable WI 54821 United States;X-APPLE-RADIUS=500;X-TITLE=24845 County Highway M:geo:-91.0531232,46.2015648
END:VEVENT
END:VCALENDAR