BEGIN:VCALENDAR
VERSION:2.0
PRODID:-//Town of Namakagon - ECPv6.15.20//NONSGML v1.0//EN
CALSCALE:GREGORIAN
METHOD:PUBLISH
X-ORIGINAL-URL:https://namakagon-wi.org
X-WR-CALDESC:Events for Town of Namakagon
REFRESH-INTERVAL;VALUE=DURATION:PT1H
X-Robots-Tag:noindex
X-PUBLISHED-TTL:PT1H
BEGIN:VTIMEZONE
TZID:UTC
BEGIN:STANDARD
TZOFFSETFROM:+0000
TZOFFSETTO:+0000
TZNAME:UTC
DTSTART:20230101T000000
END:STANDARD
END:VTIMEZONE
BEGIN:VEVENT
DTSTART;TZID=UTC:20240724T080000
DTEND;TZID=UTC:20240725T170000
DTSTAMP:20260424T094519
CREATED:20240718T200024Z
LAST-MODIFIED:20240718T200024Z
UID:9721-1721808000-1721926800@namakagon-wi.org
SUMMARY:Town Offices Closed
DESCRIPTION:Wednesday\, July 24th and Thursday\, July 25th
URL:https://namakagon-wi.org/event/town-offices-closed/
LOCATION:WI
END:VEVENT
END:VCALENDAR