BEGIN:VCALENDAR
VERSION:2.0
PRODID:-//Town of Namakagon - ECPv6.15.20//NONSGML v1.0//EN
CALSCALE:GREGORIAN
METHOD:PUBLISH
X-WR-CALNAME:Town of Namakagon
X-ORIGINAL-URL:https://namakagon-wi.org
X-WR-CALDESC:Events for Town of Namakagon
REFRESH-INTERVAL;VALUE=DURATION:PT1H
X-Robots-Tag:noindex
X-PUBLISHED-TTL:PT1H
BEGIN:VTIMEZONE
TZID:UTC
BEGIN:STANDARD
TZOFFSETFROM:+0000
TZOFFSETTO:+0000
TZNAME:UTC
DTSTART:20230101T000000
END:STANDARD
END:VTIMEZONE
BEGIN:VEVENT
DTSTART;TZID=UTC:20240717T130000
DTEND;TZID=UTC:20240717T150000
DTSTAMP:20260422T095659
CREATED:20231214T170225Z
LAST-MODIFIED:20231214T170225Z
UID:8769-1721221200-1721228400@namakagon-wi.org
SUMMARY:Quilters
DESCRIPTION:
URL:https://namakagon-wi.org/event/quilters-2/2024-07-17/
LOCATION:Namakagon Town Hall\, 24845 County Highway M\, Cable\, WI\, 54821\, United States
GEO:46.2015648;-91.0531232
X-APPLE-STRUCTURED-LOCATION;VALUE=URI;X-ADDRESS=Namakagon Town Hall 24845 County Highway M Cable WI 54821 United States;X-APPLE-RADIUS=500;X-TITLE=24845 County Highway M:geo:-91.0531232,46.2015648
END:VEVENT
BEGIN:VEVENT
DTSTART;TZID=UTC:20240717T190000
DTEND;TZID=UTC:20240717T210000
DTSTAMP:20260422T095659
CREATED:20240605T155112Z
LAST-MODIFIED:20240605T155112Z
UID:9602-1721242800-1721250000@namakagon-wi.org
SUMMARY:NLA Sponsored Elk Presentation
DESCRIPTION:Presentation hosts DNR and the Rocky Mountain Elk Foundation
URL:https://namakagon-wi.org/event/nla-sponsored-elk-presentation/
LOCATION:Namakagon Town Hall\, Cable\, WI\, 23845 County Highway M\, Cable\, WI\, 54821\, United States
GEO:46.1970875;-91.0666077
X-APPLE-STRUCTURED-LOCATION;VALUE=URI;X-ADDRESS=Namakagon Town Hall Cable WI 23845 County Highway M Cable WI 54821 United States;X-APPLE-RADIUS=500;X-TITLE=23845 County Highway M:geo:-91.0666077,46.1970875
END:VEVENT
END:VCALENDAR