BEGIN:VCALENDAR
VERSION:2.0
PRODID:-//Town of Namakagon - ECPv6.15.20//NONSGML v1.0//EN
CALSCALE:GREGORIAN
METHOD:PUBLISH
X-WR-CALNAME:Town of Namakagon
X-ORIGINAL-URL:https://namakagon-wi.org
X-WR-CALDESC:Events for Town of Namakagon
REFRESH-INTERVAL;VALUE=DURATION:PT1H
X-Robots-Tag:noindex
X-PUBLISHED-TTL:PT1H
BEGIN:VTIMEZONE
TZID:UTC
BEGIN:STANDARD
TZOFFSETFROM:+0000
TZOFFSETTO:+0000
TZNAME:UTC
DTSTART:20230101T000000
END:STANDARD
END:VTIMEZONE
BEGIN:VEVENT
DTSTART;VALUE=DATE:20240531
DTEND;VALUE=DATE:20240602
DTSTAMP:20260423T114238
CREATED:20240514T144423Z
LAST-MODIFIED:20240514T144423Z
UID:9310-1717113600-1717286399@namakagon-wi.org
SUMMARY:Rumble on the Lake Event
DESCRIPTION:Please plan to join us on Friday\, May 31 for an all day Poker Run around Lake Namakagon\, as well as our kick-off party at Ammo’s Evergreen at 6pm with live music by Dixie Duncan\, drink specials and activities. \n  \nThe main event will take place on Saturday\, June 1 at Ammo’s Evergreen near Lake Namakagon with a Pancake Breakfast hosted by the Cable American Legion at 8:30am (all proceeds go to the American Legion)\, with kickstands up around 10:30am\, and live music by Dixie Duncan after the ride. Lynn’s Custom Meats is providing the food after the ride. \n  \n 
URL:https://namakagon-wi.org/event/rumble-on-the-lake-event/
LOCATION:Evergreen Tavern\, 20105 County Highway M\, Cable\, WI\, 54821\, United States
GEO:46.201518;-91.15571
X-APPLE-STRUCTURED-LOCATION;VALUE=URI;X-ADDRESS=Evergreen Tavern 20105 County Highway M Cable WI 54821 United States;X-APPLE-RADIUS=500;X-TITLE=20105 County Highway M:geo:-91.15571,46.201518
END:VEVENT
END:VCALENDAR