BEGIN:VCALENDAR
VERSION:2.0
PRODID:-//Town of Namakagon - ECPv6.15.20//NONSGML v1.0//EN
CALSCALE:GREGORIAN
METHOD:PUBLISH
X-WR-CALNAME:Town of Namakagon
X-ORIGINAL-URL:https://namakagon-wi.org
X-WR-CALDESC:Events for Town of Namakagon
REFRESH-INTERVAL;VALUE=DURATION:PT1H
X-Robots-Tag:noindex
X-PUBLISHED-TTL:PT1H
BEGIN:VTIMEZONE
TZID:UTC
BEGIN:STANDARD
TZOFFSETFROM:+0000
TZOFFSETTO:+0000
TZNAME:UTC
DTSTART:20240101T000000
END:STANDARD
END:VTIMEZONE
BEGIN:VEVENT
DTSTART;TZID=UTC:20260415T130000
DTEND;TZID=UTC:20260415T150000
DTSTAMP:20260420T214954
CREATED:20240826T163811Z
LAST-MODIFIED:20240826T163811Z
UID:10237-1776258000-1776265200@namakagon-wi.org
SUMMARY:Quilting Club
DESCRIPTION:
URL:https://namakagon-wi.org/event/quilting-club/2026-04-15/
LOCATION:Namakagon Town Hall\, Cable\, WI\, 23845 County Highway M\, Cable\, WI\, 54821\, United States
GEO:46.1970875;-91.0666077
X-APPLE-STRUCTURED-LOCATION;VALUE=URI;X-ADDRESS=Namakagon Town Hall Cable WI 23845 County Highway M Cable WI 54821 United States;X-APPLE-RADIUS=500;X-TITLE=23845 County Highway M:geo:-91.0666077,46.1970875
END:VEVENT
BEGIN:VEVENT
DTSTART;TZID=UTC:20260408T130000
DTEND;TZID=UTC:20260408T150000
DTSTAMP:20260420T214954
CREATED:20240826T163811Z
LAST-MODIFIED:20240826T163811Z
UID:10236-1775653200-1775660400@namakagon-wi.org
SUMMARY:Quilting Club
DESCRIPTION:
URL:https://namakagon-wi.org/event/quilting-club/2026-04-08/
LOCATION:Namakagon Town Hall\, Cable\, WI\, 23845 County Highway M\, Cable\, WI\, 54821\, United States
GEO:46.1970875;-91.0666077
X-APPLE-STRUCTURED-LOCATION;VALUE=URI;X-ADDRESS=Namakagon Town Hall Cable WI 23845 County Highway M Cable WI 54821 United States;X-APPLE-RADIUS=500;X-TITLE=23845 County Highway M:geo:-91.0666077,46.1970875
END:VEVENT
BEGIN:VEVENT
DTSTART;TZID=UTC:20260401T130000
DTEND;TZID=UTC:20260401T150000
DTSTAMP:20260420T214954
CREATED:20240826T163811Z
LAST-MODIFIED:20240826T163811Z
UID:10235-1775048400-1775055600@namakagon-wi.org
SUMMARY:Quilting Club
DESCRIPTION:
URL:https://namakagon-wi.org/event/quilting-club/2026-04-01/
LOCATION:Namakagon Town Hall\, Cable\, WI\, 23845 County Highway M\, Cable\, WI\, 54821\, United States
GEO:46.1970875;-91.0666077
X-APPLE-STRUCTURED-LOCATION;VALUE=URI;X-ADDRESS=Namakagon Town Hall Cable WI 23845 County Highway M Cable WI 54821 United States;X-APPLE-RADIUS=500;X-TITLE=23845 County Highway M:geo:-91.0666077,46.1970875
END:VEVENT
BEGIN:VEVENT
DTSTART;TZID=UTC:20260325T130000
DTEND;TZID=UTC:20260325T150000
DTSTAMP:20260420T214954
CREATED:20240826T163811Z
LAST-MODIFIED:20240826T163811Z
UID:10234-1774443600-1774450800@namakagon-wi.org
SUMMARY:Quilting Club
DESCRIPTION:
URL:https://namakagon-wi.org/event/quilting-club/2026-03-25/
LOCATION:Namakagon Town Hall\, Cable\, WI\, 23845 County Highway M\, Cable\, WI\, 54821\, United States
GEO:46.1970875;-91.0666077
X-APPLE-STRUCTURED-LOCATION;VALUE=URI;X-ADDRESS=Namakagon Town Hall Cable WI 23845 County Highway M Cable WI 54821 United States;X-APPLE-RADIUS=500;X-TITLE=23845 County Highway M:geo:-91.0666077,46.1970875
END:VEVENT
BEGIN:VEVENT
DTSTART;TZID=UTC:20260318T130000
DTEND;TZID=UTC:20260318T150000
DTSTAMP:20260420T214954
CREATED:20240826T163811Z
LAST-MODIFIED:20240826T163811Z
UID:10233-1773838800-1773846000@namakagon-wi.org
SUMMARY:Quilting Club
DESCRIPTION:
URL:https://namakagon-wi.org/event/quilting-club/2026-03-18/
LOCATION:Namakagon Town Hall\, Cable\, WI\, 23845 County Highway M\, Cable\, WI\, 54821\, United States
GEO:46.1970875;-91.0666077
X-APPLE-STRUCTURED-LOCATION;VALUE=URI;X-ADDRESS=Namakagon Town Hall Cable WI 23845 County Highway M Cable WI 54821 United States;X-APPLE-RADIUS=500;X-TITLE=23845 County Highway M:geo:-91.0666077,46.1970875
END:VEVENT
BEGIN:VEVENT
DTSTART;TZID=UTC:20260311T130000
DTEND;TZID=UTC:20260311T150000
DTSTAMP:20260420T214954
CREATED:20240826T163811Z
LAST-MODIFIED:20240826T163811Z
UID:10232-1773234000-1773241200@namakagon-wi.org
SUMMARY:Quilting Club
DESCRIPTION:
URL:https://namakagon-wi.org/event/quilting-club/2026-03-11/
LOCATION:Namakagon Town Hall\, Cable\, WI\, 23845 County Highway M\, Cable\, WI\, 54821\, United States
GEO:46.1970875;-91.0666077
X-APPLE-STRUCTURED-LOCATION;VALUE=URI;X-ADDRESS=Namakagon Town Hall Cable WI 23845 County Highway M Cable WI 54821 United States;X-APPLE-RADIUS=500;X-TITLE=23845 County Highway M:geo:-91.0666077,46.1970875
END:VEVENT
BEGIN:VEVENT
DTSTART;TZID=UTC:20260304T130000
DTEND;TZID=UTC:20260304T150000
DTSTAMP:20260420T214954
CREATED:20240826T163811Z
LAST-MODIFIED:20240826T163811Z
UID:10231-1772629200-1772636400@namakagon-wi.org
SUMMARY:Quilting Club
DESCRIPTION:
URL:https://namakagon-wi.org/event/quilting-club/2026-03-04/
LOCATION:Namakagon Town Hall\, Cable\, WI\, 23845 County Highway M\, Cable\, WI\, 54821\, United States
GEO:46.1970875;-91.0666077
X-APPLE-STRUCTURED-LOCATION;VALUE=URI;X-ADDRESS=Namakagon Town Hall Cable WI 23845 County Highway M Cable WI 54821 United States;X-APPLE-RADIUS=500;X-TITLE=23845 County Highway M:geo:-91.0666077,46.1970875
END:VEVENT
BEGIN:VEVENT
DTSTART;TZID=UTC:20260225T130000
DTEND;TZID=UTC:20260225T150000
DTSTAMP:20260420T214954
CREATED:20240826T163811Z
LAST-MODIFIED:20240826T163811Z
UID:10230-1772024400-1772031600@namakagon-wi.org
SUMMARY:Quilting Club
DESCRIPTION:
URL:https://namakagon-wi.org/event/quilting-club/2026-02-25/
LOCATION:Namakagon Town Hall\, Cable\, WI\, 23845 County Highway M\, Cable\, WI\, 54821\, United States
GEO:46.1970875;-91.0666077
X-APPLE-STRUCTURED-LOCATION;VALUE=URI;X-ADDRESS=Namakagon Town Hall Cable WI 23845 County Highway M Cable WI 54821 United States;X-APPLE-RADIUS=500;X-TITLE=23845 County Highway M:geo:-91.0666077,46.1970875
END:VEVENT
BEGIN:VEVENT
DTSTART;TZID=UTC:20260218T130000
DTEND;TZID=UTC:20260218T150000
DTSTAMP:20260420T214954
CREATED:20240826T163811Z
LAST-MODIFIED:20240826T163811Z
UID:10229-1771419600-1771426800@namakagon-wi.org
SUMMARY:Quilting Club
DESCRIPTION:
URL:https://namakagon-wi.org/event/quilting-club/2026-02-18/
LOCATION:Namakagon Town Hall\, Cable\, WI\, 23845 County Highway M\, Cable\, WI\, 54821\, United States
GEO:46.1970875;-91.0666077
X-APPLE-STRUCTURED-LOCATION;VALUE=URI;X-ADDRESS=Namakagon Town Hall Cable WI 23845 County Highway M Cable WI 54821 United States;X-APPLE-RADIUS=500;X-TITLE=23845 County Highway M:geo:-91.0666077,46.1970875
END:VEVENT
BEGIN:VEVENT
DTSTART;TZID=UTC:20260211T130000
DTEND;TZID=UTC:20260211T150000
DTSTAMP:20260420T214954
CREATED:20240826T163811Z
LAST-MODIFIED:20240826T163811Z
UID:10228-1770814800-1770822000@namakagon-wi.org
SUMMARY:Quilting Club
DESCRIPTION:
URL:https://namakagon-wi.org/event/quilting-club/2026-02-11/
LOCATION:Namakagon Town Hall\, Cable\, WI\, 23845 County Highway M\, Cable\, WI\, 54821\, United States
GEO:46.1970875;-91.0666077
X-APPLE-STRUCTURED-LOCATION;VALUE=URI;X-ADDRESS=Namakagon Town Hall Cable WI 23845 County Highway M Cable WI 54821 United States;X-APPLE-RADIUS=500;X-TITLE=23845 County Highway M:geo:-91.0666077,46.1970875
END:VEVENT
BEGIN:VEVENT
DTSTART;TZID=UTC:20260204T130000
DTEND;TZID=UTC:20260204T150000
DTSTAMP:20260420T214954
CREATED:20240826T163811Z
LAST-MODIFIED:20240826T163811Z
UID:10227-1770210000-1770217200@namakagon-wi.org
SUMMARY:Quilting Club
DESCRIPTION:
URL:https://namakagon-wi.org/event/quilting-club/2026-02-04/
LOCATION:Namakagon Town Hall\, Cable\, WI\, 23845 County Highway M\, Cable\, WI\, 54821\, United States
GEO:46.1970875;-91.0666077
X-APPLE-STRUCTURED-LOCATION;VALUE=URI;X-ADDRESS=Namakagon Town Hall Cable WI 23845 County Highway M Cable WI 54821 United States;X-APPLE-RADIUS=500;X-TITLE=23845 County Highway M:geo:-91.0666077,46.1970875
END:VEVENT
BEGIN:VEVENT
DTSTART;TZID=UTC:20260128T130000
DTEND;TZID=UTC:20260128T150000
DTSTAMP:20260420T214954
CREATED:20240826T163811Z
LAST-MODIFIED:20240826T163811Z
UID:10226-1769605200-1769612400@namakagon-wi.org
SUMMARY:Quilting Club
DESCRIPTION:
URL:https://namakagon-wi.org/event/quilting-club/2026-01-28/
LOCATION:Namakagon Town Hall\, Cable\, WI\, 23845 County Highway M\, Cable\, WI\, 54821\, United States
GEO:46.1970875;-91.0666077
X-APPLE-STRUCTURED-LOCATION;VALUE=URI;X-ADDRESS=Namakagon Town Hall Cable WI 23845 County Highway M Cable WI 54821 United States;X-APPLE-RADIUS=500;X-TITLE=23845 County Highway M:geo:-91.0666077,46.1970875
END:VEVENT
BEGIN:VEVENT
DTSTART;TZID=UTC:20260121T130000
DTEND;TZID=UTC:20260121T150000
DTSTAMP:20260420T214954
CREATED:20240826T163811Z
LAST-MODIFIED:20240826T163811Z
UID:10225-1769000400-1769007600@namakagon-wi.org
SUMMARY:Quilting Club
DESCRIPTION:
URL:https://namakagon-wi.org/event/quilting-club/2026-01-21/
LOCATION:Namakagon Town Hall\, Cable\, WI\, 23845 County Highway M\, Cable\, WI\, 54821\, United States
GEO:46.1970875;-91.0666077
X-APPLE-STRUCTURED-LOCATION;VALUE=URI;X-ADDRESS=Namakagon Town Hall Cable WI 23845 County Highway M Cable WI 54821 United States;X-APPLE-RADIUS=500;X-TITLE=23845 County Highway M:geo:-91.0666077,46.1970875
END:VEVENT
BEGIN:VEVENT
DTSTART;TZID=UTC:20260114T130000
DTEND;TZID=UTC:20260114T150000
DTSTAMP:20260420T214954
CREATED:20240826T163811Z
LAST-MODIFIED:20240826T163811Z
UID:10224-1768395600-1768402800@namakagon-wi.org
SUMMARY:Quilting Club
DESCRIPTION:
URL:https://namakagon-wi.org/event/quilting-club/2026-01-14/
LOCATION:Namakagon Town Hall\, Cable\, WI\, 23845 County Highway M\, Cable\, WI\, 54821\, United States
GEO:46.1970875;-91.0666077
X-APPLE-STRUCTURED-LOCATION;VALUE=URI;X-ADDRESS=Namakagon Town Hall Cable WI 23845 County Highway M Cable WI 54821 United States;X-APPLE-RADIUS=500;X-TITLE=23845 County Highway M:geo:-91.0666077,46.1970875
END:VEVENT
BEGIN:VEVENT
DTSTART;TZID=UTC:20260107T130000
DTEND;TZID=UTC:20260107T150000
DTSTAMP:20260420T214954
CREATED:20240826T163811Z
LAST-MODIFIED:20240826T163811Z
UID:10223-1767790800-1767798000@namakagon-wi.org
SUMMARY:Quilting Club
DESCRIPTION:
URL:https://namakagon-wi.org/event/quilting-club/2026-01-07/
LOCATION:Namakagon Town Hall\, Cable\, WI\, 23845 County Highway M\, Cable\, WI\, 54821\, United States
GEO:46.1970875;-91.0666077
X-APPLE-STRUCTURED-LOCATION;VALUE=URI;X-ADDRESS=Namakagon Town Hall Cable WI 23845 County Highway M Cable WI 54821 United States;X-APPLE-RADIUS=500;X-TITLE=23845 County Highway M:geo:-91.0666077,46.1970875
END:VEVENT
BEGIN:VEVENT
DTSTART;TZID=UTC:20251231T130000
DTEND;TZID=UTC:20251231T150000
DTSTAMP:20260420T214954
CREATED:20240826T163811Z
LAST-MODIFIED:20240826T163811Z
UID:10222-1767186000-1767193200@namakagon-wi.org
SUMMARY:Quilting Club
DESCRIPTION:
URL:https://namakagon-wi.org/event/quilting-club/2025-12-31/
LOCATION:Namakagon Town Hall\, Cable\, WI\, 23845 County Highway M\, Cable\, WI\, 54821\, United States
GEO:46.1970875;-91.0666077
X-APPLE-STRUCTURED-LOCATION;VALUE=URI;X-ADDRESS=Namakagon Town Hall Cable WI 23845 County Highway M Cable WI 54821 United States;X-APPLE-RADIUS=500;X-TITLE=23845 County Highway M:geo:-91.0666077,46.1970875
END:VEVENT
BEGIN:VEVENT
DTSTART;TZID=UTC:20251224T130000
DTEND;TZID=UTC:20251224T150000
DTSTAMP:20260420T214954
CREATED:20240826T163811Z
LAST-MODIFIED:20240826T163811Z
UID:10221-1766581200-1766588400@namakagon-wi.org
SUMMARY:Quilting Club
DESCRIPTION:
URL:https://namakagon-wi.org/event/quilting-club/2025-12-24/
LOCATION:Namakagon Town Hall\, Cable\, WI\, 23845 County Highway M\, Cable\, WI\, 54821\, United States
GEO:46.1970875;-91.0666077
X-APPLE-STRUCTURED-LOCATION;VALUE=URI;X-ADDRESS=Namakagon Town Hall Cable WI 23845 County Highway M Cable WI 54821 United States;X-APPLE-RADIUS=500;X-TITLE=23845 County Highway M:geo:-91.0666077,46.1970875
END:VEVENT
BEGIN:VEVENT
DTSTART;TZID=UTC:20251217T130000
DTEND;TZID=UTC:20251217T150000
DTSTAMP:20260420T214954
CREATED:20240826T163811Z
LAST-MODIFIED:20240826T163811Z
UID:10220-1765976400-1765983600@namakagon-wi.org
SUMMARY:Quilting Club
DESCRIPTION:
URL:https://namakagon-wi.org/event/quilting-club/2025-12-17/
LOCATION:Namakagon Town Hall\, Cable\, WI\, 23845 County Highway M\, Cable\, WI\, 54821\, United States
GEO:46.1970875;-91.0666077
X-APPLE-STRUCTURED-LOCATION;VALUE=URI;X-ADDRESS=Namakagon Town Hall Cable WI 23845 County Highway M Cable WI 54821 United States;X-APPLE-RADIUS=500;X-TITLE=23845 County Highway M:geo:-91.0666077,46.1970875
END:VEVENT
BEGIN:VEVENT
DTSTART;TZID=UTC:20251210T130000
DTEND;TZID=UTC:20251210T150000
DTSTAMP:20260420T214954
CREATED:20240826T163811Z
LAST-MODIFIED:20240826T163811Z
UID:10219-1765371600-1765378800@namakagon-wi.org
SUMMARY:Quilting Club
DESCRIPTION:
URL:https://namakagon-wi.org/event/quilting-club/2025-12-10/
LOCATION:Namakagon Town Hall\, Cable\, WI\, 23845 County Highway M\, Cable\, WI\, 54821\, United States
GEO:46.1970875;-91.0666077
X-APPLE-STRUCTURED-LOCATION;VALUE=URI;X-ADDRESS=Namakagon Town Hall Cable WI 23845 County Highway M Cable WI 54821 United States;X-APPLE-RADIUS=500;X-TITLE=23845 County Highway M:geo:-91.0666077,46.1970875
END:VEVENT
BEGIN:VEVENT
DTSTART;TZID=UTC:20251203T130000
DTEND;TZID=UTC:20251203T150000
DTSTAMP:20260420T214954
CREATED:20240826T163811Z
LAST-MODIFIED:20240826T163811Z
UID:10218-1764766800-1764774000@namakagon-wi.org
SUMMARY:Quilting Club
DESCRIPTION:
URL:https://namakagon-wi.org/event/quilting-club/2025-12-03/
LOCATION:Namakagon Town Hall\, Cable\, WI\, 23845 County Highway M\, Cable\, WI\, 54821\, United States
GEO:46.1970875;-91.0666077
X-APPLE-STRUCTURED-LOCATION;VALUE=URI;X-ADDRESS=Namakagon Town Hall Cable WI 23845 County Highway M Cable WI 54821 United States;X-APPLE-RADIUS=500;X-TITLE=23845 County Highway M:geo:-91.0666077,46.1970875
END:VEVENT
BEGIN:VEVENT
DTSTART;TZID=UTC:20251126T130000
DTEND;TZID=UTC:20251126T150000
DTSTAMP:20260420T214954
CREATED:20240826T163811Z
LAST-MODIFIED:20240826T163811Z
UID:10217-1764162000-1764169200@namakagon-wi.org
SUMMARY:Quilting Club
DESCRIPTION:
URL:https://namakagon-wi.org/event/quilting-club/2025-11-26/
LOCATION:Namakagon Town Hall\, Cable\, WI\, 23845 County Highway M\, Cable\, WI\, 54821\, United States
GEO:46.1970875;-91.0666077
X-APPLE-STRUCTURED-LOCATION;VALUE=URI;X-ADDRESS=Namakagon Town Hall Cable WI 23845 County Highway M Cable WI 54821 United States;X-APPLE-RADIUS=500;X-TITLE=23845 County Highway M:geo:-91.0666077,46.1970875
END:VEVENT
BEGIN:VEVENT
DTSTART;TZID=UTC:20251119T130000
DTEND;TZID=UTC:20251119T150000
DTSTAMP:20260420T214954
CREATED:20240826T163811Z
LAST-MODIFIED:20240826T163811Z
UID:10216-1763557200-1763564400@namakagon-wi.org
SUMMARY:Quilting Club
DESCRIPTION:
URL:https://namakagon-wi.org/event/quilting-club/2025-11-19/
LOCATION:Namakagon Town Hall\, Cable\, WI\, 23845 County Highway M\, Cable\, WI\, 54821\, United States
GEO:46.1970875;-91.0666077
X-APPLE-STRUCTURED-LOCATION;VALUE=URI;X-ADDRESS=Namakagon Town Hall Cable WI 23845 County Highway M Cable WI 54821 United States;X-APPLE-RADIUS=500;X-TITLE=23845 County Highway M:geo:-91.0666077,46.1970875
END:VEVENT
BEGIN:VEVENT
DTSTART;TZID=UTC:20251112T130000
DTEND;TZID=UTC:20251112T150000
DTSTAMP:20260420T214954
CREATED:20240826T163811Z
LAST-MODIFIED:20240826T163811Z
UID:10215-1762952400-1762959600@namakagon-wi.org
SUMMARY:Quilting Club
DESCRIPTION:
URL:https://namakagon-wi.org/event/quilting-club/2025-11-12/
LOCATION:Namakagon Town Hall\, Cable\, WI\, 23845 County Highway M\, Cable\, WI\, 54821\, United States
GEO:46.1970875;-91.0666077
X-APPLE-STRUCTURED-LOCATION;VALUE=URI;X-ADDRESS=Namakagon Town Hall Cable WI 23845 County Highway M Cable WI 54821 United States;X-APPLE-RADIUS=500;X-TITLE=23845 County Highway M:geo:-91.0666077,46.1970875
END:VEVENT
BEGIN:VEVENT
DTSTART;TZID=UTC:20251105T130000
DTEND;TZID=UTC:20251105T150000
DTSTAMP:20260420T214954
CREATED:20240826T163811Z
LAST-MODIFIED:20240826T163811Z
UID:10214-1762347600-1762354800@namakagon-wi.org
SUMMARY:Quilting Club
DESCRIPTION:
URL:https://namakagon-wi.org/event/quilting-club/2025-11-05/
LOCATION:Namakagon Town Hall\, Cable\, WI\, 23845 County Highway M\, Cable\, WI\, 54821\, United States
GEO:46.1970875;-91.0666077
X-APPLE-STRUCTURED-LOCATION;VALUE=URI;X-ADDRESS=Namakagon Town Hall Cable WI 23845 County Highway M Cable WI 54821 United States;X-APPLE-RADIUS=500;X-TITLE=23845 County Highway M:geo:-91.0666077,46.1970875
END:VEVENT
BEGIN:VEVENT
DTSTART;TZID=UTC:20251029T130000
DTEND;TZID=UTC:20251029T150000
DTSTAMP:20260420T214954
CREATED:20240826T163811Z
LAST-MODIFIED:20240826T163811Z
UID:10213-1761742800-1761750000@namakagon-wi.org
SUMMARY:Quilting Club
DESCRIPTION:
URL:https://namakagon-wi.org/event/quilting-club/2025-10-29/
LOCATION:Namakagon Town Hall\, Cable\, WI\, 23845 County Highway M\, Cable\, WI\, 54821\, United States
GEO:46.1970875;-91.0666077
X-APPLE-STRUCTURED-LOCATION;VALUE=URI;X-ADDRESS=Namakagon Town Hall Cable WI 23845 County Highway M Cable WI 54821 United States;X-APPLE-RADIUS=500;X-TITLE=23845 County Highway M:geo:-91.0666077,46.1970875
END:VEVENT
BEGIN:VEVENT
DTSTART;TZID=UTC:20251022T130000
DTEND;TZID=UTC:20251022T150000
DTSTAMP:20260420T214954
CREATED:20240826T163811Z
LAST-MODIFIED:20240826T163811Z
UID:10212-1761138000-1761145200@namakagon-wi.org
SUMMARY:Quilting Club
DESCRIPTION:
URL:https://namakagon-wi.org/event/quilting-club/2025-10-22/
LOCATION:Namakagon Town Hall\, Cable\, WI\, 23845 County Highway M\, Cable\, WI\, 54821\, United States
GEO:46.1970875;-91.0666077
X-APPLE-STRUCTURED-LOCATION;VALUE=URI;X-ADDRESS=Namakagon Town Hall Cable WI 23845 County Highway M Cable WI 54821 United States;X-APPLE-RADIUS=500;X-TITLE=23845 County Highway M:geo:-91.0666077,46.1970875
END:VEVENT
BEGIN:VEVENT
DTSTART;TZID=UTC:20251015T130000
DTEND;TZID=UTC:20251015T150000
DTSTAMP:20260420T214954
CREATED:20240826T163811Z
LAST-MODIFIED:20240826T163811Z
UID:10211-1760533200-1760540400@namakagon-wi.org
SUMMARY:Quilting Club
DESCRIPTION:
URL:https://namakagon-wi.org/event/quilting-club/2025-10-15/
LOCATION:Namakagon Town Hall\, Cable\, WI\, 23845 County Highway M\, Cable\, WI\, 54821\, United States
GEO:46.1970875;-91.0666077
X-APPLE-STRUCTURED-LOCATION;VALUE=URI;X-ADDRESS=Namakagon Town Hall Cable WI 23845 County Highway M Cable WI 54821 United States;X-APPLE-RADIUS=500;X-TITLE=23845 County Highway M:geo:-91.0666077,46.1970875
END:VEVENT
BEGIN:VEVENT
DTSTART;TZID=UTC:20251008T130000
DTEND;TZID=UTC:20251008T150000
DTSTAMP:20260420T214954
CREATED:20240826T163811Z
LAST-MODIFIED:20240826T163811Z
UID:10210-1759928400-1759935600@namakagon-wi.org
SUMMARY:Quilting Club
DESCRIPTION:
URL:https://namakagon-wi.org/event/quilting-club/2025-10-08/
LOCATION:Namakagon Town Hall\, Cable\, WI\, 23845 County Highway M\, Cable\, WI\, 54821\, United States
GEO:46.1970875;-91.0666077
X-APPLE-STRUCTURED-LOCATION;VALUE=URI;X-ADDRESS=Namakagon Town Hall Cable WI 23845 County Highway M Cable WI 54821 United States;X-APPLE-RADIUS=500;X-TITLE=23845 County Highway M:geo:-91.0666077,46.1970875
END:VEVENT
BEGIN:VEVENT
DTSTART;TZID=UTC:20251001T130000
DTEND;TZID=UTC:20251001T150000
DTSTAMP:20260420T214954
CREATED:20240826T163811Z
LAST-MODIFIED:20240826T163811Z
UID:10209-1759323600-1759330800@namakagon-wi.org
SUMMARY:Quilting Club
DESCRIPTION:
URL:https://namakagon-wi.org/event/quilting-club/2025-10-01/
LOCATION:Namakagon Town Hall\, Cable\, WI\, 23845 County Highway M\, Cable\, WI\, 54821\, United States
GEO:46.1970875;-91.0666077
X-APPLE-STRUCTURED-LOCATION;VALUE=URI;X-ADDRESS=Namakagon Town Hall Cable WI 23845 County Highway M Cable WI 54821 United States;X-APPLE-RADIUS=500;X-TITLE=23845 County Highway M:geo:-91.0666077,46.1970875
END:VEVENT
BEGIN:VEVENT
DTSTART;TZID=UTC:20250924T130000
DTEND;TZID=UTC:20250924T150000
DTSTAMP:20260420T214954
CREATED:20240826T163811Z
LAST-MODIFIED:20240826T163811Z
UID:10208-1758718800-1758726000@namakagon-wi.org
SUMMARY:Quilting Club
DESCRIPTION:
URL:https://namakagon-wi.org/event/quilting-club/2025-09-24/
LOCATION:Namakagon Town Hall\, Cable\, WI\, 23845 County Highway M\, Cable\, WI\, 54821\, United States
GEO:46.1970875;-91.0666077
X-APPLE-STRUCTURED-LOCATION;VALUE=URI;X-ADDRESS=Namakagon Town Hall Cable WI 23845 County Highway M Cable WI 54821 United States;X-APPLE-RADIUS=500;X-TITLE=23845 County Highway M:geo:-91.0666077,46.1970875
END:VEVENT
END:VCALENDAR